BEGIN:VCALENDAR
VERSION:2.0
PRODID:-//jEvents 2.0 for Joomla//EN
CALSCALE:GREGORIAN
METHOD:PUBLISH
BEGIN:VEVENT
UID:3a67dba9207a18b7c8539dd8b01624b3
CATEGORIES:Lange Woche N - Offline
CREATED:20250902T110250
SUMMARY:Auftaktveranstaltung ab Klasse 7
LOCATION:Bestehornhaus - Hecknerstraße 6\, Aschersleben\, Sachsen-Anhalt\, 06449\, 
URL;VALUE=URI:https://kosa21.de/projekte-entdecken/veranstaltungen/eventdetail/3262/-/auf
 taktveranstaltung-ab-klasse-7?tmpl=component
DESCRIPTION:<p>Zielgruppe: Schüler ab der Klasse 7</p><p>Von&nbsp;<strong>Montag, den 1
 5.09. bis Sonnabend, den 20.09.2025,</strong>&nbsp;steht in der ältesten St
 adt Sachsen-Anhalt wieder alles im Zeichen der Nachhaltigkeit. Der Schwerpu
 nkt liegt in diesem Jahr auf dem nachhaltigen Entwicklungsziel (SDG) 4:&nbs
 p;Inklusive, gleichberechtigte und hochwertige Bildung gewährleisten.</p> <
 a href="https://kosa21.de/projekte-entdecken/veranstaltungen/eventdetail/32
 62/-/auftaktveranstaltung-ab-klasse-7?tmpl=component">Dieser Event wurde im
 portiert von: https://kosa21.de/projekte-entdecken/veranstaltungen/eventdet
 ail/3262/-/auftaktveranstaltung-ab-klasse-7?tmpl=component</a>DTSTAMP:20260421T112750
DTSTART:20250915T103000
SEQUENCE:0
TRANSP:OPAQUE
END:VEVENT
END:VCALENDAR