BEGIN:VCALENDAR
VERSION:2.0
PRODID:-//jEvents 2.0 for Joomla//EN
CALSCALE:GREGORIAN
METHOD:PUBLISH
BEGIN:VEVENT
UID:805f9a984e69c4b85085924b76054e5e
CATEGORIES:Offline
CREATED:20251210T121003
SUMMARY:Mit Permakultur die Zukunft gestalten - Ein Einführungskurs
LOCATION:Ökodorf Sieben Linden - Sieben Linden 1\, Beetzendorf OT Poppau\, Sachsen-A
 nhalt\, 38489\, 
URL;VALUE=URI:https://kosa21.de/projekte-entdecken/veranstaltungen/eventdetail/3340/-/mit
 -permakultur-die-zukunft-gestalten-ein-einfuehrungskurs?tmpl=component
DESCRIPTION:<p>Dieser Permakultur-Einführungskurs richtet sich an diejenigen, die aktue
 lle Herausforderungen wie Klimaveränderungen, Ressourcen-Knappheit und Arte
 nsterben nicht untätig hinnehmen wollen. Aktiv zu einer lebenswerten Welt b
 eitragen kannst auch Du - einfach indem Du Deinen (Gemeinschafts-) Garten u
 nd Dein Leben (selbst-) verantwortungsvoll gestaltest. Permakultur bietet d
 afür viele Ideen an, die überall umsetzbar sind.</p><p>Hier zeigt das Ökodo
 rf Sieben Linden zahlreiche Beispiele von Systemen gelebter Permakultur, di
 e in über fast drei Jahrzehnten entwickelt wurden: das Leben in Gemeinschaf
 t, diverse Ansätze von Gärten und Gärtnereien, verschiedene Agroforst-Syste
 me, Nährstoff- und Wasser-Kreislaufsysteme (Komposttoiletten, Pflanzenklärs
 ysteme, Grauwasser Nutzung und vieles mehr), die das Mikro-Klima positiv be
 einflussen.</p><p>Wir können die Permakultur-Prinzipien bei Rundgängen durc
 h das Ökodorf erfahren und bei einer Grundstücksplanung in Kleingruppen auf
 merksame Beobachtung sowie Gestaltungsmethoden üben. In einer Praxis-Einhei
 t werden wir einen Selbstversorger-Garten in Sieben Linden für die klimatis
 chen Herausforderungen resilienter machen.</p><p>Wusstest Du schon? Permaku
 ltur ist ein ganzheitliches und ethisches Design-System, nicht nur für die 
 Gartenplanung. Für manche Menschen ist sie sogar eine Lebenshaltung in Zeit
 en der öko-sozialer Transformation. Denn gesunde ökologische und soziale Sy
 steme basieren auf den gleichen Prinzipien, wie z.B. Diversität, Kooperatio
 n, Vernetzung und Selbstorganisation.</p><p><strong>Weitere Informationen u
 nd Anmeldung</strong>: <a href="https://lernort.siebenlinden.org/de/2b4fbda
 4363c473f9d6c48c3bf7419c6/mit-permakultur-die-zukunft-gestalten---ein-einfu
 hrungskurs" target="_blank" rel="noopener">Lernort Sieben Linden</a></p> <a
  href="https://kosa21.de/projekte-entdecken/veranstaltungen/eventdetail/334
 0/-/mit-permakultur-die-zukunft-gestalten-ein-einfuehrungskurs?tmpl=compone
 nt">Dieser Event wurde importiert von: https://kosa21.de/projekte-entdecken
 /veranstaltungen/eventdetail/3340/-/mit-permakultur-die-zukunft-gestalten-e
 in-einfuehrungskurs?tmpl=component</a>DTSTAMP:20260421T085830
DTSTART:20261030T200000
DTEND:20261101T130000
SEQUENCE:0
TRANSP:OPAQUE
END:VEVENT
END:VCALENDAR