BEGIN:VCALENDAR
VERSION:2.0
PRODID:-//jEvents 2.0 for Joomla//EN
CALSCALE:GREGORIAN
METHOD:PUBLISH
BEGIN:VEVENT
UID:ee028a7d64337ec1a066d463e8a55636
CATEGORIES:Lange Woche N - Offline
CREATED:20251211T124738
SUMMARY:"Fahrradbus" - Protestparty für Sicherheit.
LOCATION:Bahnhof Neustadt - \, Magdeburg\, \, 39106\, 
URL;VALUE=URI:https://kosa21.de/projekte-entdecken/veranstaltungen/eventdetail/3374/-/fah
 rradbus-protestparty-fuer-sicherheit?tmpl=component
DESCRIPTION:"Fahrradbus" - Protestparty für Sicherheit\nWir fahren zusammen zu den Schu
 len in der Nachtweide. Vom Bahnhof Magdeburg-Neustadt über die Gröperstraße
  zur Nachtweide.\n Dieser Event wurde importiert von: https://kosa21.de/pro
 jekte-entdecken/veranstaltungen/eventdetail/3374/-/fahrradbus-protestparty-
 fuer-sicherheit?tmpl=component
X-ALT-DESC;FMTTYPE=text/html:<p>"Fahrradbus" - Protestparty für Sicherheit</p><p>Wir fahren zusammen zu 
 den Schulen in der Nachtweide. Vom Bahnhof Magdeburg-Neustadt über die Gröp
 erstraße zur Nachtweide.</p> <a href="https://kosa21.de/projekte-entdecken/
 veranstaltungen/eventdetail/3374/-/fahrradbus-protestparty-fuer-sicherheit?
 tmpl=component">Dieser Event wurde importiert von: https://kosa21.de/projek
 te-entdecken/veranstaltungen/eventdetail/3374/-/fahrradbus-protestparty-fue
 r-sicherheit?tmpl=component</a>DTSTAMP:20260423T144635
DTSTART:20250916T070000
DTEND:20250916T080000
SEQUENCE:0
TRANSP:OPAQUE
END:VEVENT
END:VCALENDAR