BEGIN:VCALENDAR
VERSION:2.0
PRODID:-//jEvents 2.0 for Joomla//EN
CALSCALE:GREGORIAN
METHOD:PUBLISH
BEGIN:VEVENT
UID:02b693f6cf0a66d214bac904077b04b3
CATEGORIES:Magdeburg aktiv - klimafreundlich im Alltag
CREATED:20190403T110403
SUMMARY:Konsumbewusster Kiezspaziergang in Stadtfeld-Ost
URL;VALUE=URI:https://kosa21.de/ruhende-projekte/magdeburg-aktiv/eventdetail/821/-/konsum
 bewusster-kiezspaziergang-in-stadtfeld-ost?tmpl=component
DESCRIPTION:Gemeinsam spazieren wir durch Stadtfeld-Ost, diskutieren über Lösungsideen 
 zu klimaschädlichem Konsumverhalten und besuchen klimagerechte(re) Läden un
 d Initiativen.\n Dieser Event wurde importiert von: https://kosa21.de/ruhen
 de-projekte/magdeburg-aktiv/eventdetail/821/-/konsumbewusster-kiezspazierga
 ng-in-stadtfeld-ost?tmpl=component
X-ALT-DESC;FMTTYPE=text/html:<p>Gemeinsam spazieren wir durch Stadtfeld-Ost, diskutieren über Lösungside
 en zu klimaschädlichem Konsumverhalten und besuchen klimagerechte(re) Läden
  und Initiativen.</p> <a href="https://kosa21.de/ruhende-projekte/magdeburg
 -aktiv/eventdetail/821/-/konsumbewusster-kiezspaziergang-in-stadtfeld-ost?t
 mpl=component">Dieser Event wurde importiert von: https://kosa21.de/ruhende
 -projekte/magdeburg-aktiv/eventdetail/821/-/konsumbewusster-kiezspaziergang
 -in-stadtfeld-ost?tmpl=component</a>DTSTAMP:20260421T104816
DTSTART:20190417T160000
DTEND:20190417T180000
SEQUENCE:0
TRANSP:OPAQUE
END:VEVENT
END:VCALENDAR