BEGIN:VCALENDAR
VERSION:2.0
PRODID:-//jEvents 2.0 for Joomla//EN
CALSCALE:GREGORIAN
METHOD:PUBLISH
BEGIN:VEVENT
UID:428f19faa74a10b9d9e99f116161ed6b
CATEGORIES:Magdeburg aktiv - klimafreundlich im Alltag
CREATED:20190408T135901
SUMMARY:Upcycling alter Lattenroste zu geodätischer Kuppel
LOCATION:MACHERBURG - Porsestr. 19\, Magdeburg\, Sachsen-Anhalt\, 39104\, 
URL;VALUE=URI:https://kosa21.de/ruhende-projekte/magdeburg-aktiv/eventdetail/836/-/upcycl
 ing-alter-lattenroste-zu-geodaetischer-kuppel?tmpl=component
DESCRIPTION:Lattenroste - nach einem anstrengenden Leben in tragender Position unter vo
 llgeschwitzten Matratzen landen sie oft achtlos auf dem Sperrmüll. Das muss
  nicht sein. In diesem Workshop zeigen wir euch, wie ihr alte Lattenroste u
 pcycelt und ihnen somit ein neues und würdevolles Leben einhaucht. Wir baue
 n daraus schöne (geodätische) Kuppeln, die ihr z.B. als Pavillon in euren G
 ärten verwenden könnt.\n Dieser Event wurde importiert von: https://kosa21.
 de/ruhende-projekte/magdeburg-aktiv/eventdetail/836/-/upcycling-alter-latte
 nroste-zu-geodaetischer-kuppel?tmpl=component
X-ALT-DESC;FMTTYPE=text/html:<p>Lattenroste - nach einem anstrengenden Leben in tragender Position unter
  vollgeschwitzten Matratzen landen sie oft achtlos auf dem Sperrmüll. Das m
 uss nicht sein. In diesem Workshop zeigen wir euch, wie ihr alte Lattenrost
 e upcycelt und ihnen somit ein neues und würdevolles Leben einhaucht. Wir b
 auen daraus schöne (geodätische) Kuppeln, die ihr z.B. als Pavillon in eure
 n Gärten verwenden könnt.</p> <a href="https://kosa21.de/ruhende-projekte/m
 agdeburg-aktiv/eventdetail/836/-/upcycling-alter-lattenroste-zu-geodaetisch
 er-kuppel?tmpl=component">Dieser Event wurde importiert von: https://kosa21
 .de/ruhende-projekte/magdeburg-aktiv/eventdetail/836/-/upcycling-alter-latt
 enroste-zu-geodaetischer-kuppel?tmpl=component</a>DTSTAMP:20260421T124110
DTSTART:20190503T130000
DTEND:20190503T180000
SEQUENCE:0
TRANSP:OPAQUE
END:VEVENT
END:VCALENDAR